BEGIN:VCALENDAR
VERSION:2.0
CALSCALE:GREGORIAN
PRODID:-//Diputació de Barcelona//DibaCMS//EN
BEGIN:VEVENT
UID:8094
DTSTAMP:20260421T094946
DTSTART:20240712T173000
DTEND:20240712T233000
SUMMARY:2n Festival Musico-Cultural Alt Berguedà
LOCATION:
METHOD:PUBLISH
X-WR-CALNAME:baga@baga.cat
X-WR-TIMEZONE:Europe/Madrid
DESCRIPTION:
URI:https://www.baga.cat/actualitat/agenda/2n-festival-musico-cultural-alt-bergueda.html
CLASS:PUBLIC
END:VEVENT
END:VCALENDAR
