BEGIN:VCALENDAR
VERSION:2.0
CALSCALE:GREGORIAN
PRODID:-//Diputació de Barcelona//DibaCMS//EN
BEGIN:VEVENT
UID:8093
DTSTAMP:20260421T042350
DTSTART:20240712T200000
DTEND:20240712T200000
SUMMARY:Festival Música Antiga dels Pirineus
LOCATION:Carrer Mossèn Jaume 08695 Bagà
METHOD:PUBLISH
X-WR-CALNAME:baga@baga.cat
X-WR-TIMEZONE:Europe/Madrid
DESCRIPTION:
URI:https://www.baga.cat/actualitat/agenda/festival-musica-antiga-dels-pirineus.html
CLASS:PUBLIC
END:VEVENT
END:VCALENDAR
