BEGIN:VCALENDAR
VERSION:2.0
CALSCALE:GREGORIAN
PRODID:-//Diputació de Barcelona//DibaCMS//EN
BEGIN:VEVENT
UID:8092
DTSTAMP:20260421T024533
DTSTART:20240827T113000
DTEND:20240827T123000
SUMMARY:Viu l'estiu a Bagà - Aquagim 
LOCATION:Passeig Bastareny, s/n 08695 Bagà
METHOD:PUBLISH
X-WR-CALNAME:baga@baga.cat
X-WR-TIMEZONE:Europe/Madrid
DESCRIPTION:
URI:https://www.baga.cat/actualitat/agenda/8092-viu-lestiu-a-baga-aquagim-.html
CLASS:PUBLIC
END:VEVENT
END:VCALENDAR
