BEGIN:VCALENDAR
VERSION:2.0
CALSCALE:GREGORIAN
PRODID:-//Diputació de Barcelona//DibaCMS//EN
BEGIN:VEVENT
UID:8090
DTSTAMP:20260421T135157
DTSTART:20240813T113000
DTEND:20240813T123000
SUMMARY:Viu l'estiu a Bagà - Aquagim
LOCATION:Passeig Bastareny, s/n 08695 Bagà
METHOD:PUBLISH
X-WR-CALNAME:baga@baga.cat
X-WR-TIMEZONE:Europe/Madrid
DESCRIPTION:
URI:https://www.baga.cat/actualitat/agenda/8090-viu-lestiu-a-baga-aquagim.html
CLASS:PUBLIC
END:VEVENT
END:VCALENDAR
