BEGIN:VCALENDAR
VERSION:2.0
CALSCALE:GREGORIAN
PRODID:-//Diputació de Barcelona//DibaCMS//EN
BEGIN:VEVENT
UID:8085
DTSTAMP:20260421T011920
DTSTART:20240828T090000
DTEND:20240828T100000
SUMMARY:Viu l'estiu a Bagà - Ioga
LOCATION:Passeig Bastareny, s/n 08695 Bagà
METHOD:PUBLISH
X-WR-CALNAME:baga@baga.cat
X-WR-TIMEZONE:Europe/Madrid
DESCRIPTION:
URI:https://www.baga.cat/actualitat/agenda/8085-viu-lestiu-a-baga-ioga.html
CLASS:PUBLIC
END:VEVENT
END:VCALENDAR
