BEGIN:VCALENDAR
VERSION:2.0
CALSCALE:GREGORIAN
PRODID:-//Diputació de Barcelona//DibaCMS//EN
BEGIN:VEVENT
UID:8084
DTSTAMP:20260421T121316
DTSTART:20240805T090000
DTEND:20240805T100000
SUMMARY:Viu l'estiu a Bagà - Pilates
LOCATION:Passeig Bastareny, s/n 08695 Bagà
METHOD:PUBLISH
X-WR-CALNAME:baga@baga.cat
X-WR-TIMEZONE:Europe/Madrid
DESCRIPTION:
URI:https://www.baga.cat/actualitat/agenda/8084-viu-lestiu-a-baga-pilates.html
CLASS:PUBLIC
END:VEVENT
END:VCALENDAR
