BEGIN:VCALENDAR
VERSION:2.0
CALSCALE:GREGORIAN
PRODID:-//Diputació de Barcelona//DibaCMS//EN
BEGIN:VEVENT
UID:8082
DTSTAMP:20260420T173055
DTSTART:20240729T110000
DTEND:20240729T120000
SUMMARY:Viu l'estiu a Bagà - Balls llatins
LOCATION:Plaça Tiraval 
METHOD:PUBLISH
X-WR-CALNAME:baga@baga.cat
X-WR-TIMEZONE:Europe/Madrid
DESCRIPTION:
URI:https://www.baga.cat/actualitat/agenda/viu-lestiu-a-baga-balls-llatins.html
CLASS:PUBLIC
END:VEVENT
END:VCALENDAR
