BEGIN:VCALENDAR
VERSION:2.0
CALSCALE:GREGORIAN
PRODID:-//Diputació de Barcelona//DibaCMS//EN
BEGIN:VEVENT
UID:8073
DTSTAMP:20260422T120327
DTSTART:20240803T000000
DTEND:20240803T235900
SUMMARY:Gran Concurs de Tir al Plat
LOCATION:
METHOD:PUBLISH
X-WR-CALNAME:baga@baga.cat
X-WR-TIMEZONE:Europe/Madrid
DESCRIPTION:
URI:https://www.baga.cat/actualitat/agenda/gran-concurs-de-tir-al-plat.html
CLASS:PUBLIC
END:VEVENT
END:VCALENDAR
