BEGIN:VCALENDAR
VERSION:2.0
CALSCALE:GREGORIAN
PRODID:-//Diputació de Barcelona//DibaCMS//EN
BEGIN:VEVENT
UID:8071
DTSTAMP:20260421T112500
DTSTART:20240711T180000
DTEND:20240711T180000
SUMMARY:Caminada saludable a la fresca 
LOCATION:
METHOD:PUBLISH
X-WR-CALNAME:baga@baga.cat
X-WR-TIMEZONE:Europe/Madrid
DESCRIPTION:
URI:https://www.baga.cat/actualitat/agenda/caminada-saludable-a-la-fresca-.html
CLASS:PUBLIC
END:VEVENT
END:VCALENDAR
