BEGIN:VCALENDAR
VERSION:2.0
CALSCALE:GREGORIAN
PRODID:-//Diputació de Barcelona//DibaCMS//EN
BEGIN:VEVENT
UID:8065
DTSTAMP:20260421T073937
DTSTART:20240628T120000
DTEND:20240628T120000
SUMMARY:Dia alliberament LGTBI
LOCATION:Plaça Catalunya 
METHOD:PUBLISH
X-WR-CALNAME:baga@baga.cat
X-WR-TIMEZONE:Europe/Madrid
DESCRIPTION:
URI:https://www.baga.cat/actualitat/agenda/dia-alliberament-lgtbi.html
CLASS:PUBLIC
END:VEVENT
END:VCALENDAR
