BEGIN:VCALENDAR
VERSION:2.0
CALSCALE:GREGORIAN
PRODID:-//Diputació de Barcelona//DibaCMS//EN
BEGIN:VEVENT
UID:8064
DTSTAMP:20260421T094129
DTSTART:20240630T000000
DTEND:20240630T000000
SUMMARY:Festa Major de Terradelles
LOCATION:
METHOD:PUBLISH
X-WR-CALNAME:baga@baga.cat
X-WR-TIMEZONE:Europe/Madrid
DESCRIPTION:
URI:https://www.baga.cat/actualitat/agenda/8064-festa-major-de-terradelles.html
CLASS:PUBLIC
END:VEVENT
END:VCALENDAR
