BEGIN:VCALENDAR
VERSION:2.0
CALSCALE:GREGORIAN
PRODID:-//Diputació de Barcelona//DibaCMS//EN
BEGIN:VEVENT
UID:8052
DTSTAMP:20260421T110135
DTSTART:20240616T124500
DTEND:20240616T124500
SUMMARY:Presentació de la ruta dels búnquers
LOCATION:BV-4024 08695 Guardiola de Berguedà
METHOD:PUBLISH
X-WR-CALNAME:baga@baga.cat
X-WR-TIMEZONE:Europe/Madrid
DESCRIPTION:
URI:https://www.baga.cat/actualitat/agenda/presentacio-de-la-ruta-dels-bunquers.html
CLASS:PUBLIC
END:VEVENT
END:VCALENDAR
