BEGIN:VCALENDAR
VERSION:2.0
CALSCALE:GREGORIAN
PRODID:-//Diputació de Barcelona//DibaCMS//EN
BEGIN:VEVENT
UID:8049
DTSTAMP:20260421T095235
DTSTART:20240622T170000
DTEND:20240622T170000
SUMMARY:Festa Sant Joan - Bagà Gran
LOCATION:c/ Historiador Pere Tomic, 1 08695 Bagà
METHOD:PUBLISH
X-WR-CALNAME:baga@baga.cat
X-WR-TIMEZONE:Europe/Madrid
DESCRIPTION:
URI:https://www.baga.cat/actualitat/agenda/8049-festa-sant-joan-baga-gran.html
CLASS:PUBLIC
END:VEVENT
END:VCALENDAR
