BEGIN:VCALENDAR
VERSION:2.0
CALSCALE:GREGORIAN
PRODID:-//Diputació de Barcelona//DibaCMS//EN
BEGIN:VEVENT
UID:8048
DTSTAMP:20260421T104650
DTSTART:20240615T150000
DTEND:20240615T235900
SUMMARY:Festa del Barri del Roser
LOCATION:Barri del Roser 
METHOD:PUBLISH
X-WR-CALNAME:baga@baga.cat
X-WR-TIMEZONE:Europe/Madrid
DESCRIPTION:
URI:https://www.baga.cat/actualitat/agenda/festa-del-barri-del-roser.html
CLASS:PUBLIC
END:VEVENT
END:VCALENDAR
