BEGIN:VCALENDAR
VERSION:2.0
CALSCALE:GREGORIAN
PRODID:-//Diputació de Barcelona//DibaCMS//EN
BEGIN:VEVENT
UID:8045
DTSTAMP:20260421T091117
DTSTART:20240616T080000
DTEND:20240616T080000
SUMMARY:XXXII Caminada popular de Bagà
LOCATION:
METHOD:PUBLISH
X-WR-CALNAME:baga@baga.cat
X-WR-TIMEZONE:Europe/Madrid
DESCRIPTION:
URI:https://www.baga.cat/actualitat/agenda/xxxii-caminada-popular-de-baga.html
CLASS:PUBLIC
END:VEVENT
END:VCALENDAR
