BEGIN:VCALENDAR
VERSION:2.0
CALSCALE:GREGORIAN
PRODID:-//Diputació de Barcelona//DibaCMS//EN
BEGIN:VEVENT
UID:8040
DTSTAMP:20260421T135530
DTSTART:20240609T110000
DTEND:20240609T110000
SUMMARY:Caminada i acte popular de Sant Pelegrí
LOCATION:Sant Pelegrí 
METHOD:PUBLISH
X-WR-CALNAME:baga@baga.cat
X-WR-TIMEZONE:Europe/Madrid
DESCRIPTION:
URI:https://www.baga.cat/actualitat/agenda/caminada-i-acte-popular-de-sant-pelegri.html
CLASS:PUBLIC
END:VEVENT
END:VCALENDAR
