BEGIN:VCALENDAR
VERSION:2.0
CALSCALE:GREGORIAN
PRODID:-//Diputació de Barcelona//DibaCMS//EN
BEGIN:VEVENT
UID:8036
DTSTAMP:20260421T104736
DTSTART:20240608T220000
DTEND:20240608T220000
SUMMARY:34a Trobada d'Esbarts
LOCATION:Plaça Galceran de Pinós 08695 Bagà
METHOD:PUBLISH
X-WR-CALNAME:baga@baga.cat
X-WR-TIMEZONE:Europe/Madrid
DESCRIPTION:
URI:https://www.baga.cat/actualitat/agenda/34a-trobada-desbarts.html
CLASS:PUBLIC
END:VEVENT
END:VCALENDAR
