BEGIN:VCALENDAR
VERSION:2.0
CALSCALE:GREGORIAN
PRODID:-//Diputació de Barcelona//DibaCMS//EN
BEGIN:VEVENT
UID:8033
DTSTAMP:20260421T094653
DTSTART:20240519T103000
DTEND:20240519T130000
SUMMARY:Festa de la família
LOCATION:Plaça Catalunya 
METHOD:PUBLISH
X-WR-CALNAME:baga@baga.cat
X-WR-TIMEZONE:Europe/Madrid
DESCRIPTION:
URI:https://www.baga.cat/actualitat/agenda/festa-de-la-familia.html
CLASS:PUBLIC
END:VEVENT
END:VCALENDAR
