BEGIN:VCALENDAR
VERSION:2.0
CALSCALE:GREGORIAN
PRODID:-//Diputació de Barcelona//DibaCMS//EN
BEGIN:VEVENT
UID:8032
DTSTAMP:20260421T060307
DTSTART:20240526T090000
DTEND:20240526T090000
SUMMARY:6a Milla Vertical Puigllançada i 10a Vertical Coll de Pal
LOCATION:
METHOD:PUBLISH
X-WR-CALNAME:baga@baga.cat
X-WR-TIMEZONE:Europe/Madrid
DESCRIPTION:
URI:https://www.baga.cat/actualitat/agenda/6a-milla-vertical-puigllancada-i-10a-vertical-coll-de-pal.html
CLASS:PUBLIC
END:VEVENT
END:VCALENDAR
