BEGIN:VCALENDAR
VERSION:2.0
CALSCALE:GREGORIAN
PRODID:-//Diputació de Barcelona//DibaCMS//EN
BEGIN:VEVENT
UID:8023
DTSTAMP:20260421T095135
DTSTART:20240518T100000
DTEND:20240518T140000
SUMMARY:1a Trobada i Mostra d'Iniciatives per a la Transformació territorial
LOCATION:Pujada a Palau, 7 08695 Bagà
METHOD:PUBLISH
X-WR-CALNAME:baga@baga.cat
X-WR-TIMEZONE:Europe/Madrid
DESCRIPTION:
URI:https://www.baga.cat/actualitat/agenda/1a-trobada-i-mostra-diniciatives-per-a-la-transformacio-territorial.html
CLASS:PUBLIC
END:VEVENT
END:VCALENDAR
