BEGIN:VCALENDAR
VERSION:2.0
CALSCALE:GREGORIAN
PRODID:-//Diputació de Barcelona//DibaCMS//EN
BEGIN:VEVENT
UID:8022
DTSTAMP:20260423T112904
DTSTART:20240630T100000
DTEND:20240630T140000
SUMMARY:15a Trobada de Puntaires
LOCATION:c/ Historiador Pere Tomic, 1 08695 Bagà
METHOD:PUBLISH
X-WR-CALNAME:baga@baga.cat
X-WR-TIMEZONE:Europe/Madrid
DESCRIPTION:
URI:https://www.baga.cat/actualitat/agenda/15a-trobada-de-puntaires.html
CLASS:PUBLIC
END:VEVENT
END:VCALENDAR
