BEGIN:VCALENDAR
VERSION:2.0
CALSCALE:GREGORIAN
PRODID:-//Diputació de Barcelona//DibaCMS//EN
BEGIN:VEVENT
UID:8012
DTSTAMP:20260421T042433
DTSTART:20240427T110000
DTEND:20240427T110000
SUMMARY:Vine a fer de jardiner/a
LOCATION:
METHOD:PUBLISH
X-WR-CALNAME:baga@baga.cat
X-WR-TIMEZONE:Europe/Madrid
DESCRIPTION:
URI:https://www.baga.cat/actualitat/agenda/vine-a-fer-de-jardinera.html
CLASS:PUBLIC
END:VEVENT
END:VCALENDAR
