BEGIN:VCALENDAR
VERSION:2.0
CALSCALE:GREGORIAN
PRODID:-//Diputació de Barcelona//DibaCMS//EN
BEGIN:VEVENT
UID:8010
DTSTAMP:20260421T091332
DTSTART:20240420T180000
DTEND:20240420T180000
SUMMARY:Presentació de llibre
LOCATION:C. de la Vinya, 1 08695 Bagà
METHOD:PUBLISH
X-WR-CALNAME:baga@baga.cat
X-WR-TIMEZONE:Europe/Madrid
DESCRIPTION:
URI:https://www.baga.cat/actualitat/agenda/presentacio-de-llibre.html
CLASS:PUBLIC
END:VEVENT
END:VCALENDAR
