BEGIN:VCALENDAR
VERSION:2.0
CALSCALE:GREGORIAN
PRODID:-//Diputació de Barcelona//DibaCMS//EN
BEGIN:VEVENT
UID:8006
DTSTAMP:20260421T153142
DTSTART:20240420T170000
DTEND:20240420T170000
SUMMARY:Festa de la primavera
LOCATION:c/ Historiador Pere Tomic, 1 08695 Bagà
METHOD:PUBLISH
X-WR-CALNAME:baga@baga.cat
X-WR-TIMEZONE:Europe/Madrid
DESCRIPTION:
URI:https://www.baga.cat/actualitat/agenda/festa-de-la-primavera.html
CLASS:PUBLIC
END:VEVENT
END:VCALENDAR
