BEGIN:VCALENDAR
VERSION:2.0
CALSCALE:GREGORIAN
PRODID:-//Diputació de Barcelona//DibaCMS//EN
BEGIN:VEVENT
UID:8002
DTSTAMP:20260421T060200
DTSTART:20240405T090000
DTEND:20240405T140000
SUMMARY:Obertura OAC Terradelles
LOCATION:08695 Bagà
METHOD:PUBLISH
X-WR-CALNAME:baga@baga.cat
X-WR-TIMEZONE:Europe/Madrid
DESCRIPTION:
URI:https://www.baga.cat/actualitat/agenda/obertura-oac-terradelles.html
CLASS:PUBLIC
END:VEVENT
END:VCALENDAR
