BEGIN:VCALENDAR
VERSION:2.0
CALSCALE:GREGORIAN
PRODID:-//Diputació de Barcelona//DibaCMS//EN
BEGIN:VEVENT
UID:7997
DTSTAMP:20260421T091500
DTSTART:20240331T080000
DTEND:20240331T140000
SUMMARY:Caramelles
LOCATION:
METHOD:PUBLISH
X-WR-CALNAME:baga@baga.cat
X-WR-TIMEZONE:Europe/Madrid
DESCRIPTION:
URI:https://www.baga.cat/actualitat/agenda/caramelles.html
CLASS:PUBLIC
END:VEVENT
END:VCALENDAR
