BEGIN:VCALENDAR
VERSION:2.0
CALSCALE:GREGORIAN
PRODID:-//Diputació de Barcelona//DibaCMS//EN
BEGIN:VEVENT
UID:7996
DTSTAMP:20260421T074148
DTSTART:20240330T100000
DTEND:20240330T140000
SUMMARY:Punt lila
LOCATION:Plaça Catalunya 
METHOD:PUBLISH
X-WR-CALNAME:baga@baga.cat
X-WR-TIMEZONE:Europe/Madrid
DESCRIPTION:
URI:https://www.baga.cat/actualitat/agenda/punt-lila.html
CLASS:PUBLIC
END:VEVENT
END:VCALENDAR
