BEGIN:VCALENDAR
VERSION:2.0
CALSCALE:GREGORIAN
PRODID:-//Diputació de Barcelona//DibaCMS//EN
BEGIN:VEVENT
UID:7995
DTSTAMP:20260421T074015
DTSTART:20240329T160000
DTEND:20240329T160000
SUMMARY:Concurs de truc
LOCATION:Plaça Raval, 5 08695 Bagà
METHOD:PUBLISH
X-WR-CALNAME:baga@baga.cat
X-WR-TIMEZONE:Europe/Madrid
DESCRIPTION:
URI:https://www.baga.cat/actualitat/agenda/7995-concurs-de-truc.html
CLASS:PUBLIC
END:VEVENT
END:VCALENDAR
