BEGIN:VCALENDAR
VERSION:2.0
CALSCALE:GREGORIAN
PRODID:-//Diputació de Barcelona//DibaCMS//EN
BEGIN:VEVENT
UID:7992
DTSTAMP:20260421T104619
DTSTART:20240328T170000
DTEND:20240328T210000
SUMMARY:Donació de sang
LOCATION:c/ Historiador Pere Tomic, 1 08695 Bagà
METHOD:PUBLISH
X-WR-CALNAME:baga@baga.cat
X-WR-TIMEZONE:Europe/Madrid
DESCRIPTION:
URI:https://www.baga.cat/actualitat/agenda/7992-donacio-de-sang.html
CLASS:PUBLIC
END:VEVENT
END:VCALENDAR
