BEGIN:VCALENDAR
VERSION:2.0
CALSCALE:GREGORIAN
PRODID:-//Diputació de Barcelona//DibaCMS//EN
BEGIN:VEVENT
UID:7987
DTSTAMP:20260421T140421
DTSTART:20240329T090000
DTEND:20240329T210000
SUMMARY:Torneig de Pàdel
LOCATION:Zona esportiva 
METHOD:PUBLISH
X-WR-CALNAME:baga@baga.cat
X-WR-TIMEZONE:Europe/Madrid
DESCRIPTION:
URI:https://www.baga.cat/actualitat/agenda/7987-torneig-de-padel.html
CLASS:PUBLIC
END:VEVENT
END:VCALENDAR
