BEGIN:VCALENDAR
VERSION:2.0
CALSCALE:GREGORIAN
PRODID:-//Diputació de Barcelona//DibaCMS//EN
BEGIN:VEVENT
UID:2514
DTSTAMP:20260421T105129
DTSTART:20240313T170000
DTEND:20240313T170000
SUMMARY:Taller de Pasqua
LOCATION:Plaça Raval, 5 08695 Bagà
METHOD:PUBLISH
X-WR-CALNAME:baga@baga.cat
X-WR-TIMEZONE:Europe/Madrid
DESCRIPTION:
URI:https://www.baga.cat/actualitat/agenda/taller-de-pasqua.html
CLASS:PUBLIC
END:VEVENT
END:VCALENDAR
