BEGIN:VCALENDAR
VERSION:2.0
CALSCALE:GREGORIAN
PRODID:-//Diputació de Barcelona//DibaCMS//EN
BEGIN:VEVENT
UID:2509
DTSTAMP:20260421T110351
DTSTART:20240317T083000
DTEND:20240317T083000
SUMMARY:Excursió al Montsent del Berguedà
LOCATION:
METHOD:PUBLISH
X-WR-CALNAME:baga@baga.cat
X-WR-TIMEZONE:Europe/Madrid
DESCRIPTION:
URI:https://www.baga.cat/actualitat/agenda/excursio-al-montsent-del-bergueda.html
CLASS:PUBLIC
END:VEVENT
END:VCALENDAR
