BEGIN:VCALENDAR
VERSION:2.0
CALSCALE:GREGORIAN
PRODID:-//Diputació de Barcelona//DibaCMS//EN
BEGIN:VEVENT
UID:2506
DTSTAMP:20260420T234951
DTSTART:20241031T113000
DTEND:20241031T123000
SUMMARY:2a Escola de salut de Bagà
LOCATION:c/ Historiador Pere Tomic, 1 08695 Bagà
METHOD:PUBLISH
X-WR-CALNAME:baga@baga.cat
X-WR-TIMEZONE:Europe/Madrid
DESCRIPTION:
URI:https://www.baga.cat/actualitat/agenda/2506-2a-escola-de-salut-de-baga.html
CLASS:PUBLIC
END:VEVENT
END:VCALENDAR
