BEGIN:VCALENDAR
VERSION:2.0
CALSCALE:GREGORIAN
PRODID:-//Diputació de Barcelona//DibaCMS//EN
BEGIN:VEVENT
UID:2500
DTSTAMP:20260421T122543
DTSTART:20240308T170000
DTEND:20240310T120000
SUMMARY:Dia de la Dona 
LOCATION:
METHOD:PUBLISH
X-WR-CALNAME:baga@baga.cat
X-WR-TIMEZONE:Europe/Madrid
DESCRIPTION:
URI:https://www.baga.cat/actualitat/agenda/dia-de-la-dona-.html
CLASS:PUBLIC
END:VEVENT
END:VCALENDAR
