BEGIN:VCALENDAR
VERSION:2.0
CALSCALE:GREGORIAN
PRODID:-//Diputació de Barcelona//DibaCMS//EN
BEGIN:VEVENT
UID:2498
DTSTAMP:20260421T135345
DTSTART:20240330T093000
DTEND:20240330T093000
SUMMARY:XL Pujada de Bagà a Coll de Pal
LOCATION:
METHOD:PUBLISH
X-WR-CALNAME:baga@baga.cat
X-WR-TIMEZONE:Europe/Madrid
DESCRIPTION:
URI:https://www.baga.cat/actualitat/agenda/xl-pujada-de-baga-a-coll-de-pal.html
CLASS:PUBLIC
END:VEVENT
END:VCALENDAR
