BEGIN:VCALENDAR
VERSION:2.0
CALSCALE:GREGORIAN
PRODID:-//Diputació de Barcelona//DibaCMS//EN
BEGIN:VEVENT
UID:2485
DTSTAMP:20260421T122846
DTSTART:20240225T083000
DTEND:20240225T083000
SUMMARY:Ruta circular pels Cingles de Vallcebre
LOCATION:
METHOD:PUBLISH
X-WR-CALNAME:baga@baga.cat
X-WR-TIMEZONE:Europe/Madrid
DESCRIPTION:
URI:https://www.baga.cat/actualitat/agenda/ruta-circular-pels-cingles-de-vallcebre.html
CLASS:PUBLIC
END:VEVENT
END:VCALENDAR
