BEGIN:VCALENDAR
VERSION:2.0
CALSCALE:GREGORIAN
PRODID:-//Diputació de Barcelona//DibaCMS//EN
BEGIN:VEVENT
UID:2481
DTSTAMP:20260421T074300
DTSTART:20240221T170000
DTEND:20240221T170000
SUMMARY:Enterro de la sardina infantil
LOCATION:Plaça Raval, 5 08695 Bagà
METHOD:PUBLISH
X-WR-CALNAME:baga@baga.cat
X-WR-TIMEZONE:Europe/Madrid
DESCRIPTION:
URI:https://www.baga.cat/actualitat/agenda/enterro-de-la-sardina-infantil.html
CLASS:PUBLIC
END:VEVENT
END:VCALENDAR
