BEGIN:VCALENDAR
VERSION:2.0
CALSCALE:GREGORIAN
PRODID:-//Diputació de Barcelona//DibaCMS//EN
BEGIN:VEVENT
UID:2479
DTSTAMP:20260421T122805
DTSTART:20240224T140000
DTEND:20240224T140000
SUMMARY:Arrossada Associació Bagà Gran
LOCATION:Passeig de Gibellàs, 1 08695 Bagà
METHOD:PUBLISH
X-WR-CALNAME:baga@baga.cat
X-WR-TIMEZONE:Europe/Madrid
DESCRIPTION:
URI:https://www.baga.cat/actualitat/agenda/arrossada-associacio-baga-gran.html
CLASS:PUBLIC
END:VEVENT
END:VCALENDAR
