BEGIN:VCALENDAR
VERSION:2.0
CALSCALE:GREGORIAN
PRODID:-//Diputació de Barcelona//DibaCMS//EN
BEGIN:VEVENT
UID:2473
DTSTAMP:20260421T122733
DTSTART:20240217T190000
DTEND:20240217T190000
SUMMARY:Carnestoltes 
LOCATION:
METHOD:PUBLISH
X-WR-CALNAME:baga@baga.cat
X-WR-TIMEZONE:Europe/Madrid
DESCRIPTION:
URI:https://www.baga.cat/actualitat/agenda/carnestoltes-.html
CLASS:PUBLIC
END:VEVENT
END:VCALENDAR
