BEGIN:VCALENDAR
VERSION:2.0
CALSCALE:GREGORIAN
PRODID:-//Diputació de Barcelona//DibaCMS//EN
BEGIN:VEVENT
UID:2472
DTSTAMP:20260421T104816
DTSTART:20240216T170000
DTEND:20240216T170000
SUMMARY:Carnestoltes Infantil
LOCATION:
METHOD:PUBLISH
X-WR-CALNAME:baga@baga.cat
X-WR-TIMEZONE:Europe/Madrid
DESCRIPTION:
URI:https://www.baga.cat/actualitat/agenda/carnestoltes-infantil.html
CLASS:PUBLIC
END:VEVENT
END:VCALENDAR
