BEGIN:VCALENDAR
VERSION:2.0
CALSCALE:GREGORIAN
PRODID:-//Diputació de Barcelona//DibaCMS//EN
BEGIN:VEVENT
UID:2471
DTSTAMP:20260421T075547
DTSTART:20240211T100000
DTEND:20240211T140000
SUMMARY:IX Trobada Plaques de Cava Festa de l'Arròs
LOCATION:Local social Av. Salarich s/n (darrere pavelló) 
METHOD:PUBLISH
X-WR-CALNAME:baga@baga.cat
X-WR-TIMEZONE:Europe/Madrid
DESCRIPTION:
URI:https://www.baga.cat/actualitat/agenda/ix-trobada-plaques-de-cava-festa-de-larros.html
CLASS:PUBLIC
END:VEVENT
END:VCALENDAR
