BEGIN:VCALENDAR
VERSION:2.0
CALSCALE:GREGORIAN
PRODID:-//Diputació de Barcelona//DibaCMS//EN
BEGIN:VEVENT
UID:2470
DTSTAMP:20260421T060343
DTSTART:20240204T110000
DTEND:20240204T110000
SUMMARY:Caminada solidària - Dia mundial contra el càncer
LOCATION:
METHOD:PUBLISH
X-WR-CALNAME:baga@baga.cat
X-WR-TIMEZONE:Europe/Madrid
DESCRIPTION:
URI:https://www.baga.cat/actualitat/agenda/caminada-solidaria-dia-mundial-contra-el-cancer.html
CLASS:PUBLIC
END:VEVENT
END:VCALENDAR
