BEGIN:VCALENDAR
VERSION:2.0
CALSCALE:GREGORIAN
PRODID:-//Diputació de Barcelona//DibaCMS//EN
BEGIN:VEVENT
UID:2446
DTSTAMP:20260421T093210
DTSTART:20240107T190000
DTEND:20240107T190000
SUMMARY:Ball amb Duet Sifasol
LOCATION:Passeig de Gibellàs, 1 08695 Bagà
METHOD:PUBLISH
X-WR-CALNAME:baga@baga.cat
X-WR-TIMEZONE:Europe/Madrid
DESCRIPTION:
URI:https://www.baga.cat/actualitat/agenda/ball-amb-duet-sifasol.html
CLASS:PUBLIC
END:VEVENT
END:VCALENDAR
