BEGIN:VCALENDAR
VERSION:2.0
CALSCALE:GREGORIAN
PRODID:-//Diputació de Barcelona//DibaCMS//EN
BEGIN:VEVENT
UID:2444
DTSTAMP:20260421T074115
DTSTART:20231230T120000
DTEND:20231230T120000
SUMMARY:Inauguració pista pàdel i pista poliesportiva
LOCATION:Zona esportiva 
METHOD:PUBLISH
X-WR-CALNAME:baga@baga.cat
X-WR-TIMEZONE:Europe/Madrid
DESCRIPTION:
URI:https://www.baga.cat/actualitat/agenda/inauguracio-pista-padel-i-pista-poliesportiva.html
CLASS:PUBLIC
END:VEVENT
END:VCALENDAR
