BEGIN:VCALENDAR
VERSION:2.0
CALSCALE:GREGORIAN
PRODID:-//Diputació de Barcelona//DibaCMS//EN
BEGIN:VEVENT
UID:2442
DTSTAMP:20260421T110320
DTSTART:20231225T000000
DTEND:20240106T000000
SUMMARY:Els Pastorets
LOCATION:Plaça Raval, 5 08695 Bagà
METHOD:PUBLISH
X-WR-CALNAME:baga@baga.cat
X-WR-TIMEZONE:Europe/Madrid
DESCRIPTION:
URI:https://www.baga.cat/actualitat/agenda/2442-els-pastorets.html
CLASS:PUBLIC
END:VEVENT
END:VCALENDAR
