BEGIN:VCALENDAR
VERSION:2.0
CALSCALE:GREGORIAN
PRODID:-//Diputació de Barcelona//DibaCMS//EN
BEGIN:VEVENT
UID:2439
DTSTAMP:20260421T140915
DTSTART:20231224T163000
DTEND:20231224T203000
SUMMARY:Fia - Faia
LOCATION:
METHOD:PUBLISH
X-WR-CALNAME:baga@baga.cat
X-WR-TIMEZONE:Europe/Madrid
DESCRIPTION:
URI:https://www.baga.cat/actualitat/agenda/2439-fia-faia.html
CLASS:PUBLIC
END:VEVENT
END:VCALENDAR
