BEGIN:VCALENDAR
VERSION:2.0
CALSCALE:GREGORIAN
PRODID:-//Diputació de Barcelona//DibaCMS//EN
BEGIN:VEVENT
UID:2428
DTSTAMP:20260421T122920
DTSTART:20231217T120000
DTEND:20231217T120000
SUMMARY:Vermut solidari per la Marató TV3
LOCATION:Plaça Catalunya 
METHOD:PUBLISH
X-WR-CALNAME:baga@baga.cat
X-WR-TIMEZONE:Europe/Madrid
DESCRIPTION:
URI:https://www.baga.cat/actualitat/agenda/vermut-solidari-per-la-marato-tv3.html
CLASS:PUBLIC
END:VEVENT
END:VCALENDAR
