BEGIN:VCALENDAR
VERSION:2.0
CALSCALE:GREGORIAN
PRODID:-//Diputació de Barcelona//DibaCMS//EN
BEGIN:VEVENT
UID:2425
DTSTAMP:20260421T112727
DTSTART:20231215T190000
DTEND:20231215T190000
SUMMARY:El retorn de les faies infantils al balcó
LOCATION:Carrer Mossèn Jaume 08695 Bagà
METHOD:PUBLISH
X-WR-CALNAME:baga@baga.cat
X-WR-TIMEZONE:Europe/Madrid
DESCRIPTION:
URI:https://www.baga.cat/actualitat/agenda/el-retorn-de-les-faies-infantils-al-balco.html
CLASS:PUBLIC
END:VEVENT
END:VCALENDAR
