BEGIN:VCALENDAR
VERSION:2.0
CALSCALE:GREGORIAN
PRODID:-//Diputació de Barcelona//DibaCMS//EN
BEGIN:VEVENT
UID:2418
DTSTAMP:20260421T121620
DTSTART:20231217T000000
DTEND:20231217T000000
SUMMARY:Pujada pessebre a la Roca Tiraval
LOCATION:
METHOD:PUBLISH
X-WR-CALNAME:baga@baga.cat
X-WR-TIMEZONE:Europe/Madrid
DESCRIPTION:
URI:https://www.baga.cat/actualitat/agenda/pujada-pessebre-a-la-roca-tiraval.html
CLASS:PUBLIC
END:VEVENT
END:VCALENDAR
