BEGIN:VCALENDAR
VERSION:2.0
CALSCALE:GREGORIAN
PRODID:-//Diputació de Barcelona//DibaCMS//EN
BEGIN:VEVENT
UID:2417
DTSTAMP:20260421T110248
DTSTART:20231221T143000
DTEND:20231221T143000
SUMMARY:Portada del Foc de Faia
LOCATION:
METHOD:PUBLISH
X-WR-CALNAME:baga@baga.cat
X-WR-TIMEZONE:Europe/Madrid
DESCRIPTION:
URI:https://www.baga.cat/actualitat/agenda/portada-del-foc-de-faia.html
CLASS:PUBLIC
END:VEVENT
END:VCALENDAR
